BEGIN:VCALENDAR
PRODID:NingEventWidget-v1
VERSION:2.0
METHOD:PUBLISH
BEGIN:VTIMEZONE
TZID:Pacific/Midway
X-LIC-LOCATION:Pacific/Midway
BEGIN:STANDARD
TZOFFSETFROM:-1100
TZOFFSETTO:-1100
TZNAME:SST
DTSTART:19700101T000000
END:STANDARD
END:VTIMEZONE
BEGIN:VEVENT
UID:5072275:Event:450455
DTSTAMP:20260419T012745Z
SUMMARY:Weekly Gwinnett Thursday Night Meet @ Wild Bills -Duluth, GA
DESCRIPTION:What: Weekly Gwinnett Meet When: Thursdays. 8:00pm-11:30P
 M\nWhere: Wild Bills, 2075 Market Street, Duluth, GA (Front Parking Lo
 t, pull right in the \"GOLD LOT $5\". We don't pay, just say you are h
 ere for the Meet)\n\n\n-Kitchen opens inside up at 9PM, no need to dri
 ve around.\n-$1 Beer inside (Please bring a DD if you are going to be 
 drinking, we don't advise to drink & Drive.)\n ::Best of all, ALL THIS
  FOR FREE::, Just mention \"Sunny\" upon entering Wild Bills to get fr
 ee entrance or to sign up for guestlist visit www.RSVPatl.com or say 
 \"Sunny Malhotra's List\" at Ticket counter. 21+ Free, 18+ $5\n Wild B
 ills was nice enough to let us use their Valet Parking lot \"Gold Lot\
 " for the meet, without paying Valet Charge. Secured parking, police w
 ill be hired to monitor the meet. \n\nGwinnett Thursday Meet Facebook:
  http://www.facebook.com/home.php?sk=group_198882573490350\n\nwww.Spee
 dandMischief.com\nSpeed & Mischief Facebook: [url]http://www.facebook.
 com/home.php?sk=group_123697071015663&ap=1[/url]\n\nCome early to scor
 e, good spots. \n\nExtra benefit, walking distance from the main door.
  Meet & Party, live it up. Free entrance for everyone. Please bring a 
 DD if you plan on drinking. I do not advice anyone to drink & drive, n
 ot worth it. \n\nDisclaimer: The meet is on a private property, no imm
 aturity will be tolerated. I welcome you, and I'll show you the exit i
 f I have too. Bring BS/Drama and I'll be more than happy to show you b
 ack seat of a Police Cruiser\n\nFor more information visit https://www
 .southeastwheelsevents.com/events/weekly-gwinnett-thursday-night-meet-
 wild-bills-duluth-ga-4
DTSTART;TZID=Pacific/Midway:20111215T193000
DTEND;TZID=Pacific/Midway:20111215T233000
CATEGORIES:car, meet, weekly, gwinnet, gwinnett, thursday
LOCATION:Wild Bills, Duluth, GA
WEBSITE:http://www.facebook.com/?sk=messages&tid=2238168272161
URL:http://www.facebook.com/?sk=messages&tid=2238168272161
CONTACT:
ORGANIZER:Sunny Malhotra
ATTACH;FMTTYPE="image/jpeg":http://storage.ning.com/topology/rest/1.0/
 file/get/967597596?profile=original
ATTENDEE;ROLE=REQ-PARTICIPANT;PARTSTAT=ACCEPTED;RSVP=TRUE;CN="Michael 
 Thies":https://www.southeastwheelsevents.com/profile/MichaelThies
END:VEVENT
END:VCALENDAR
