BEGIN:VCALENDAR
PRODID:NingEventWidget-v1
VERSION:2.0
METHOD:PUBLISH
BEGIN:VTIMEZONE
TZID:Pacific/Midway
X-LIC-LOCATION:Pacific/Midway
BEGIN:STANDARD
TZOFFSETFROM:-1100
TZOFFSETTO:-1100
TZNAME:SST
DTSTART:19700101T000000
END:STANDARD
END:VTIMEZONE
BEGIN:VEVENT
UID:5072275:Event:257625
DTSTAMP:20260422T173928Z
SUMMARY:Weekly Gwinnett Thursday Night Meet -Duluth, GA
DESCRIPTION:What: Weekly Gwinnett MeetThursday. 8:00pm-11:30PM Where: 
 Wild Bills, 2075 Market Street, Duluth, GA (Front Parking Lot, pull ri
 ght in the \"GOLD LOT $5\". We don't pay, just say you are here for th
 e Meet)   -Kitchen opens inside up at 9PM, no need to drive around. -$
 1 Beer inside (Please bring a DD if you are going to be drinking, we d
 on't advise to drink & Drive.)  ::Best of all, ALL THIS FOR FREE::, Ju
 st mention \"Sunny\" upon entering Wild Bills to get free entrance.  o
 r To sign up for guestlist visit www.RSVPatl.com or say \"Sunny Malhot
 ra's List\" at Ticket counter. 21+ Free, 18+ $5   Wild Bills was nice 
 enough to let us use their Valet Parking lot \"Gold Lot\" for the meet
 , without paying Valet Charge. Secured parking, police will be hired t
 o monitor the meet.   Gwinnett Thursday Meet Facebook: http://www.face
 book.com/home.php?sk=group_198882573490350  www.SpeedandMischief.com S
 peed & Mischief Facebook: [url]http://www.facebook.com/home.php?sk=gro
 up_123697071015663&ap=1[/url]  Come early to score, good spots.  Extra
  benefit, walking distance from the main door. Meet & Party, live it u
 p. Free entrance for everyone. Please bring a DD if you plan on drinki
 ng. I do not advice anyone to drink & drive, not worth it.  Disclaimer
 : The meet is on a private property, no immaturity will be tolerated. 
 I welcome you, and I'll show you the exit if I have too. Bring BS/Dram
 a and I'll be more than happy to show you back seat of a Police Cruise
 r\n\nFor more information visit https://www.southeastwheelsevents.com/
 events/weekly-gwinnett-thursday-night
DTSTART;TZID=Pacific/Midway:20120322T200000
DTEND;TZID=Pacific/Midway:20120322T233000
CATEGORIES:weekly, thursday, gwinnett, "meet."
LOCATION:Wild Bills, Duluth, GA
WEBSITE:http://www.facebook.com/event.php?eid=220248164659858
URL:http://www.facebook.com/event.php?eid=220248164659858
CONTACT:
ORGANIZER;CN="Sunny Malhotra":https://www.southeastwheelsevents.com/pr
 ofile/SunnyMalhotra
ATTACH;FMTTYPE="image/jpeg":http://storage.ning.com/topology/rest/1.0/
 file/get/967596351?profile=original
ATTENDEE;ROLE=REQ-PARTICIPANT;PARTSTAT=ACCEPTED;RSVP=TRUE;CN="MIchael 
 Gilmore":https://www.southeastwheelsevents.com/profile/MIchaelGilmore
ATTENDEE;ROLE=REQ-PARTICIPANT;PARTSTAT=ACCEPTED;RSVP=TRUE;CN="Sunny Ma
 lhotra":https://www.southeastwheelsevents.com/profile/SunnyMalhotra
ATTENDEE;ROLE=REQ-PARTICIPANT;PARTSTAT=ACCEPTED;RSVP=TRUE;CN="Michael 
 Thies":https://www.southeastwheelsevents.com/profile/MichaelThies
ATTENDEE;ROLE=REQ-PARTICIPANT;PARTSTAT=TENTATIVE;RSVP=TRUE;CN="joe goo
 dmon":https://www.southeastwheelsevents.com/profile/joegoodmon
ATTENDEE;ROLE=REQ-PARTICIPANT;PARTSTAT=TENTATIVE;RSVP=TRUE;CN="christo
 pher henson":https://www.southeastwheelsevents.com/profile/christopher
 henson
ATTENDEE;ROLE=REQ-PARTICIPANT;PARTSTAT=TENTATIVE;RSVP=TRUE;CN="Greg Fo
 ster":https://www.southeastwheelsevents.com/profile/GregFoster
END:VEVENT
END:VCALENDAR
