BEGIN:VCALENDAR
PRODID:NingEventWidget-v1
VERSION:2.0
METHOD:PUBLISH
BEGIN:VTIMEZONE
TZID:Pacific/Midway
X-LIC-LOCATION:Pacific/Midway
BEGIN:STANDARD
TZOFFSETFROM:-1100
TZOFFSETTO:-1100
TZNAME:SST
DTSTART:19700101T000000
END:STANDARD
END:VTIMEZONE
BEGIN:VEVENT
UID:5072275:Event:1031351
DTSTAMP:20260423T160112Z
SUMMARY:Welcome Wagon Ride at Harley-Davidson of Brandon
DESCRIPTION:Wagon Ride at Harley-Davidson of Brandon. Classroom Meet n
  Greet at 10.00 am. KSU at 10.45 am for Welcome Wagon Ride. Welcome Wa
 gon ride is around 50 miles.\n\nFor more information visit https://www
 .southeastwheelsevents.com/events/welcome-wagon-ride-at-harley-davidso
 n-of-brandon
DTSTART;TZID=Pacific/Midway:20170205T100000
DTEND;TZID=Pacific/Midway:20170205T120000
CATEGORIES:motorcycles, "clubs/shows/cruises"
LOCATION:Harley-Davidson of Brandon
WEBSITE:http://www.oldtownhog.com/index.php/rides-and-events/calendar
URL:http://www.oldtownhog.com/index.php/rides-and-events/calendar
CONTACT:
ORGANIZER:Old Town HOG
ATTACH;FMTTYPE="image/jpeg":
ATTENDEE;ROLE=REQ-PARTICIPANT;PARTSTAT=ACCEPTED;RSVP=TRUE;CN="Christop
 her Gosney":https://www.southeastwheelsevents.com/profile/ChristopherG
 osney
END:VEVENT
END:VCALENDAR
