BEGIN:VCALENDAR
PRODID:NingEventWidget-v1
VERSION:2.0
METHOD:PUBLISH
BEGIN:VTIMEZONE
TZID:Pacific/Midway
X-LIC-LOCATION:Pacific/Midway
BEGIN:STANDARD
TZOFFSETFROM:-1100
TZOFFSETTO:-1100
TZNAME:SST
DTSTART:19700101T000000
END:STANDARD
END:VTIMEZONE
BEGIN:VEVENT
UID:5072275:Event:867131
DTSTAMP:20260424T065707Z
SUMMARY:Wellborn Horsepower Cruise -Alexander City, AL
DESCRIPTION:\n Wellborn Musclecar Museum, 124 Broad St, Alexander Cit
 y, AL. Open to all years, makes and models. Come check out the museum 
 for only $10\n\nFor more information visit https://www.southeastwheels
 events.com/events/wellborn-horsepower-cruise-alexander-city-al
DTSTART;TZID=Pacific/Midway:20150321T090000
DTEND;TZID=Pacific/Midway:20150321T180000
CATEGORIES:car, bike, show
LOCATION:Wellborn Musclecar Museum
WEBSITE:http://wellbornmusclecarmuseum.com/
URL:http://wellbornmusclecarmuseum.com/
CONTACT:256-329-8474
ORGANIZER:Wellborn Musclecar Museum
ATTACH;FMTTYPE="image/jpeg":http://storage.ning.com/topology/rest/1.0/
 file/get/967684102?profile=original
ATTENDEE;ROLE=REQ-PARTICIPANT;PARTSTAT=ACCEPTED;RSVP=TRUE;CN="Chuck Aa
 ron":https://www.southeastwheelsevents.com/profile/ChuckAaron
END:VEVENT
END:VCALENDAR
