BEGIN:VCALENDAR
PRODID:NingEventWidget-v1
VERSION:2.0
METHOD:PUBLISH
BEGIN:VTIMEZONE
TZID:Pacific/Midway
X-LIC-LOCATION:Pacific/Midway
BEGIN:STANDARD
TZOFFSETFROM:-1100
TZOFFSETTO:-1100
TZNAME:SST
DTSTART:19700101T000000
END:STANDARD
END:VTIMEZONE
BEGIN:VEVENT
UID:5072275:Event:867216
DTSTAMP:20260424T065713Z
SUMMARY:Wellborn Horsepower Cruise In -Alexander  City,  AL
DESCRIPTION:Wellborn Horsepower Cruise In.  Open to ALL Years, Makes 
 and Models.  9am - 6pm\n\n\n\n\n\n\n\n\nFor more information visit ht
 tps://www.southeastwheelsevents.com/events/wellborn-horsepower-cruise-
 in-alexander-city-al
DTSTART;TZID=Pacific/Midway:20150321T090000
DTEND;TZID=Pacific/Midway:20150321T180000
CATEGORIES:car-show
LOCATION:Wellborn Musclecar Museum
WEBSITE:http://wellbornmusclecarmuseum.com/
URL:http://wellbornmusclecarmuseum.com/
CONTACT:(256) 329-8474
ORGANIZER:Wellborn Muscle Car Museum
ATTACH;FMTTYPE="image/jpeg":
ATTENDEE;ROLE=REQ-PARTICIPANT;PARTSTAT=ACCEPTED;RSVP=TRUE;CN="Chuck Aa
 ron":https://www.southeastwheelsevents.com/profile/ChuckAaron
END:VEVENT
END:VCALENDAR
