BEGIN:VCALENDAR
PRODID:NingEventWidget-v1
VERSION:2.0
METHOD:PUBLISH
BEGIN:VTIMEZONE
TZID:Pacific/Midway
X-LIC-LOCATION:Pacific/Midway
BEGIN:STANDARD
TZOFFSETFROM:-1100
TZOFFSETTO:-1100
TZNAME:SST
DTSTART:19700101T000000
END:STANDARD
END:VTIMEZONE
BEGIN:VEVENT
UID:5072275:Event:562441
DTSTAMP:20260424T105027Z
SUMMARY:WENDY'S CRUISE-IN HOGANSVILLE
DESCRIPTION:WENDY'S CRUISE-IN SEPT.22ND.2012     5-8P.M WITH ROLLI
 NG CRUISE-TO FOLLOW.HOGANSVILLE,GA.30230 AT THE INGLES SHOPPING CENTER
  HEY .54 W. OFF I85 EXIT 28.DOOR PRIZES ,50/50,MUSIC, FREE & OPEN TO A
 LL VEHICLES.MORE INFO MARY 706-668-7731\n\nFor more information visit 
 https://www.southeastwheelsevents.com/events/wendy-s-cruise-in-hogansv
 ille-1
DTSTART;TZID=Pacific/Midway:20120922T170000
DTEND;TZID=Pacific/Midway:20120922T200000
CATEGORIES:cruise-in
LOCATION:WENDY'S HOGANSVILLE,GA.30230
WEBSITE:
URL:
CONTACT:706-668-7731
ORGANIZER;CN="mary davenport":https://www.southeastwheelsevents.com/pr
 ofile/marydavenport
ATTACH;FMTTYPE="image/jpeg":
ATTENDEE;ROLE=REQ-PARTICIPANT;PARTSTAT=ACCEPTED;RSVP=TRUE;CN="mary dav
 enport":https://www.southeastwheelsevents.com/profile/marydavenport
END:VEVENT
END:VCALENDAR
