BEGIN:VCALENDAR
PRODID:NingEventWidget-v1
VERSION:2.0
METHOD:PUBLISH
BEGIN:VTIMEZONE
TZID:Pacific/Midway
X-LIC-LOCATION:Pacific/Midway
BEGIN:STANDARD
TZOFFSETFROM:-1100
TZOFFSETTO:-1100
TZNAME:SST
DTSTART:19700101T000000
END:STANDARD
END:VTIMEZONE
BEGIN:VEVENT
UID:5072275:Event:483902
DTSTAMP:20260419T011215Z
SUMMARY:WENDY'S Cruise-In Hogansville,Ga.
DESCRIPTION:1ST.CRUISE-IN OF THE YEAR AT WENDY'S IN HOGANSVILLE,GA. JU
 ST OFF I-85 EXIT 28 AT INGLES SHOPPING CENTER.5-8P.M. ALL VEHICLES WEL
 COME NO CHARGE.DOOR PRIZES, MUSIC,50/50,CRUISER-OF-THE-MONTH AWARD.EVE
 RY 4TH.SATURDAY THRU OCTOBER.MORE INFO MARY 706-668-7731 OR EMAIL ; rd
 coupe@gmail.com.\n\nFor more information visit https://www.southeastwh
 eelsevents.com/events/wendy-s-cruise-in-hogansville-ga-2
DTSTART;TZID=Pacific/Midway:20120324T170000
DTEND;TZID=Pacific/Midway:20120324T200000
CATEGORIES:cruise-in, car, show
LOCATION:WENDY'S HOGANSVILLE,GA.
WEBSITE:
URL:
CONTACT:706--668-7731
ORGANIZER;CN="mary davenport":https://www.southeastwheelsevents.com/pr
 ofile/marydavenport
ATTACH;FMTTYPE="image/jpeg":
ATTENDEE;ROLE=REQ-PARTICIPANT;PARTSTAT=ACCEPTED;RSVP=TRUE;CN="mary dav
 enport":https://www.southeastwheelsevents.com/profile/marydavenport
END:VEVENT
END:VCALENDAR
