BEGIN:VCALENDAR
PRODID:NingEventWidget-v1
VERSION:2.0
METHOD:PUBLISH
BEGIN:VTIMEZONE
TZID:Pacific/Midway
X-LIC-LOCATION:Pacific/Midway
BEGIN:STANDARD
TZOFFSETFROM:-1100
TZOFFSETTO:-1100
TZNAME:SST
DTSTART:19700101T000000
END:STANDARD
END:VTIMEZONE
BEGIN:VEVENT
UID:5072275:Event:530524
DTSTAMP:20260419T091830Z
SUMMARY:WENDY'S Cruise-In Hogansville,Ga.
DESCRIPTION:WENDYS HOGANSVILLE,GA.EVERY 4TH.SATURDAY THRU OCTOBER 5-8 
 P.M. MUSIC, FOOD,,50/50,DOOR PRIZES, CRUISER-OF-THE-MONTH.COME FOR A E
 VENING OF FUN GET TOGETHER ,MEET NEW FRIENDS OR RUN UP ON SOME OLD FRI
 ENDS.FREE OC CHARGE.ALL VEHICLES WELCOME ! EXIT 28 OFF I-85 AT INGLES 
 SHOPPING CENTER.\n\nFor more information visit https://www.southeastwh
 eelsevents.com/events/wendy-s-cruise-in-hogansville-ga-5
DTSTART;TZID=Pacific/Midway:20120623T170000
DTEND;TZID=Pacific/Midway:20120623T200000
CATEGORIES:car, show, cruise-in
LOCATION:WENDY'S HOGANSVILLE,GA.
WEBSITE:
URL:
CONTACT:706--668-7731
ORGANIZER;CN="mary davenport":https://www.southeastwheelsevents.com/pr
 ofile/marydavenport
ATTACH;FMTTYPE="image/jpeg":
ATTENDEE;ROLE=REQ-PARTICIPANT;PARTSTAT=ACCEPTED;RSVP=TRUE;CN="mary dav
 enport":https://www.southeastwheelsevents.com/profile/marydavenport
END:VEVENT
END:VCALENDAR
