BEGIN:VCALENDAR
PRODID:NingEventWidget-v1
VERSION:2.0
METHOD:PUBLISH
BEGIN:VTIMEZONE
TZID:Pacific/Midway
X-LIC-LOCATION:Pacific/Midway
BEGIN:STANDARD
TZOFFSETFROM:-1100
TZOFFSETTO:-1100
TZNAME:SST
DTSTART:19700101T000000
END:STANDARD
END:VTIMEZONE
BEGIN:VEVENT
UID:5072275:Event:1019162
DTSTAMP:20260423T104443Z
SUMMARY:Wendy's Cruise In -Marietta, GA
DESCRIPTION:CC Riders & Cobb Classics Wendy's Cruise In\n2500 Dallas 
 Hwy\nMarietta , Georgia 30064 rcline1937@comcast.net Classic Cars,Musc
 le Cars,Cruise In 2nd Staurdays Cruise- In @ Wendy's West Cobb Market
 place April- October. 5:00PM Til ?\n\nFor more information visit https
 ://www.southeastwheelsevents.com/events/wendy-s-cruise-in-marietta-ga-
 4
DTSTART;TZID=Pacific/Midway:20170909T170000
DTEND;TZID=Pacific/Midway:20170909T220000
CATEGORIES:cruise-in
LOCATION:Wendy's
WEBSITE:http://rcline1937@comcast.net
URL:http://rcline1937@comcast.net
CONTACT:404-925-5099
ORGANIZER:CC Riders & Cobb Classics
ATTACH;FMTTYPE="image/jpeg":
ATTENDEE;ROLE=REQ-PARTICIPANT;PARTSTAT=ACCEPTED;RSVP=TRUE;CN="Chuck Aa
 ron":https://www.southeastwheelsevents.com/profile/ChuckAaron886
END:VEVENT
END:VCALENDAR
