BEGIN:VCALENDAR
PRODID:NingEventWidget-v1
VERSION:2.0
METHOD:PUBLISH
BEGIN:VTIMEZONE
TZID:Pacific/Midway
X-LIC-LOCATION:Pacific/Midway
BEGIN:STANDARD
TZOFFSETFROM:-1100
TZOFFSETTO:-1100
TZNAME:SST
DTSTART:19700101T000000
END:STANDARD
END:VTIMEZONE
BEGIN:VEVENT
UID:5072275:Event:1180359
DTSTAMP:20260424T012919Z
SUMMARY:Wesley Church Car Show - Hollywood, Sc
DESCRIPTION:Wesley Church Car Show, 5412 Hwy 165\n\nFor more informati
 on visit https://www.southeastwheelsevents.com/events/wesley-church-ca
 r-show-hollywood-sc
DTSTART;TZID=Pacific/Midway:20191116T090000
DTEND;TZID=Pacific/Midway:20191116T140000
CATEGORIES:car, show, cruise-in
LOCATION:Wesley Church,
WEBSITE:https://www.google.com/maps?q=5412+Hwy+165,+Hollywood,+Sc&amp;
 biw=1280&amp;bih=587&amp;um=1&amp;ie=UTF-8&amp;sa=X&amp;ved=0ahUKEwjzo
 fyX4tvlAhUk73MBHYVRBLYQ_AUIEigB
URL:https://www.google.com/maps?q=5412+Hwy+165,+Hollywood,+Sc&amp;biw=
 1280&amp;bih=587&amp;um=1&amp;ie=UTF-8&amp;sa=X&amp;ved=0ahUKEwjzofyX4
 tvlAhUk73MBHYVRBLYQ_AUIEigB
CONTACT:(843) 889-2200
ORGANIZER:NA
ATTACH;FMTTYPE="image/jpeg":https://storage.ning.com/topology/rest/1.0
 /file/get/3700590746?profile=original
ATTENDEE;ROLE=REQ-PARTICIPANT;PARTSTAT=ACCEPTED;RSVP=TRUE;CN="Anthony 
 Hopkins":https://www.southeastwheelsevents.com/profile/AnthonyHopkins
END:VEVENT
END:VCALENDAR
