BEGIN:VCALENDAR
PRODID:NingEventWidget-v1
VERSION:2.0
METHOD:PUBLISH
BEGIN:VTIMEZONE
TZID:Pacific/Midway
X-LIC-LOCATION:Pacific/Midway
BEGIN:STANDARD
TZOFFSETFROM:-1100
TZOFFSETTO:-1100
TZNAME:SST
DTSTART:19700101T000000
END:STANDARD
END:VTIMEZONE
BEGIN:VEVENT
UID:5072275:Event:826854
DTSTAMP:20260423T125006Z
SUMMARY:West Charlotte High School Car Show Extravaganza -Charlotte, N
 C
DESCRIPTION:West Charlotte High School Car Show Extravaganza \nSaturd
 ay, September 6, 2014\n9:00 am – 12 noon\nShow off your classic, mus
 cle, limited edition or custom car!\n* Trophies awarded in 4 categorie
 s *\n* Free Food Vouchers and Certificates to Car All Entrants *\nThis
  show is a fundraiser for the West Charlotte High School Yearbook\nSho
 w Venue – West Charlotte H.S., corner Senior Dr. & Southwest Blvd.\n
 Information contact: michael.lovell@cms.k12.nc.us\n\nFor more informat
 ion visit https://www.southeastwheelsevents.com/events/west-charlotte-
 high-school-car-show-extravaganza
DTSTART;TZID=Pacific/Midway:20140906T090000
DTEND;TZID=Pacific/Midway:20140906T120000
CATEGORIES:yearbook, fundraiser
LOCATION:West Charlotte H.S. Corner of Senior Drive and Southwest Blvd
 .
WEBSITE:
URL:
CONTACT:704-724-3846
ORGANIZER;CN="Michael Lovell":https://www.southeastwheelsevents.com/pr
 ofile/MichaelLovelll
ATTACH;FMTTYPE="image/jpeg":http://storage.ning.com/topology/rest/1.0/
 file/get/967669857?profile=original
ATTENDEE;ROLE=REQ-PARTICIPANT;PARTSTAT=ACCEPTED;RSVP=TRUE;CN="Chuck Aa
 ron":https://www.southeastwheelsevents.com/profile/ChuckAaron
ATTENDEE;ROLE=REQ-PARTICIPANT;PARTSTAT=ACCEPTED;RSVP=TRUE;CN="Michael 
 Lovell":https://www.southeastwheelsevents.com/profile/MichaelLovelll
END:VEVENT
END:VCALENDAR
