BEGIN:VCALENDAR
PRODID:NingEventWidget-v1
VERSION:2.0
METHOD:PUBLISH
BEGIN:VTIMEZONE
TZID:Pacific/Midway
X-LIC-LOCATION:Pacific/Midway
BEGIN:STANDARD
TZOFFSETFROM:-1100
TZOFFSETTO:-1100
TZNAME:SST
DTSTART:19700101T000000
END:STANDARD
END:VTIMEZONE
BEGIN:VEVENT
UID:5072275:Event:1161324
DTSTAMP:20260421T222832Z
SUMMARY:West GA Region AACA Car Show - Carrollton, Ga
DESCRIPTION:RAIN DATE - Rescheduled - JUNE 15th\n42nd Annual Car Show.
   Mike Bell Chevrolet in Carrollton. Trophies in over 20 classes. Pro
 ceeds benefit local charities.  $100 prize to car club with most cars
  attending. Free admission to public.  $20 to show a car.  Rain date
  June 15th. Rick Horne penfix@thesouthernscribe.com\n\nFor more inform
 ation visit https://www.southeastwheelsevents.com/events/west-ga-regio
 n-aaca-car-show-carrollton-ga
DTSTART;TZID=Pacific/Midway:20190615T100000
DTEND;TZID=Pacific/Midway:20190615T140000
CATEGORIES:car, show
LOCATION:Mike Bell Chevrolet
WEBSITE:
URL:
CONTACT:770 836-1879
ORGANIZER;CN="Rick Horne":https://www.southeastwheelsevents.com/profil
 e/RickHorne
ATTACH;FMTTYPE="image/jpeg":
ATTENDEE;ROLE=REQ-PARTICIPANT;PARTSTAT=ACCEPTED;RSVP=TRUE;CN="Bill mus
 arra":https://www.southeastwheelsevents.com/profile/billmusarra
ATTENDEE;ROLE=REQ-PARTICIPANT;PARTSTAT=ACCEPTED;RSVP=TRUE;CN="Rick Hor
 ne":https://www.southeastwheelsevents.com/profile/RickHorne
END:VEVENT
END:VCALENDAR
