BEGIN:VCALENDAR
PRODID:NingEventWidget-v1
VERSION:2.0
METHOD:PUBLISH
BEGIN:VTIMEZONE
TZID:Pacific/Midway
X-LIC-LOCATION:Pacific/Midway
BEGIN:STANDARD
TZOFFSETFROM:-1100
TZOFFSETTO:-1100
TZNAME:SST
DTSTART:19700101T000000
END:STANDARD
END:VTIMEZONE
BEGIN:VEVENT
UID:5072275:Event:883498
DTSTAMP:20260423T072702Z
SUMMARY:West Georgia Classic Car and Vintage Cycle Parts Swap Meet -Ca
 rrollton, GA
DESCRIPTION:West Georgia Classic Car and Vintage Cycle Parts Swapmeet\
 nMay 30, 2015 Vendors 6:30 Public 8:00. Gate closes at 4pm.\n\n\n\nWes
 t Georgia's Largest Automotive and Motorcycle Swap Meet. Vender spaces
  are $25. General admission $5. Children under 12 free. For more info 
 contact: [ email us ]\n When: May 30, 2015 Vendors 6:30 Public 8:00
 . Gate closes at 4pm.   Location:\n1625 Bankhead Highway, Carrolton, 
 GA 30117 Carrolton GA, 30117\n  Cost: $25 Vendors $5 General Admissio
 n   To Register: Click here for more information or call Chuck at 6
 78-665-5418 ore-mail us \n\nFor more information visit https://www.so
 utheastwheelsevents.com/events/west-georgia-classic-car-and-vintage-cy
 cle-parts-swap-meet-carrol
DTSTART;TZID=Pacific/Midway:20150530T080000
DTEND;TZID=Pacific/Midway:20150530T180000
CATEGORIES:swap, meet
LOCATION:1625 Bankhead Highway
WEBSITE:http://www.westgeorgiaswapmeet.com/
URL:http://www.westgeorgiaswapmeet.com/
CONTACT:Chuck at 678-665-5418 ore-mail us
ORGANIZER:West Georgia Classic Car and Vintage Cycle Parts Swap Meet
ATTACH;FMTTYPE="image/jpeg":http://storage.ning.com/topology/rest/1.0/
 file/get/967687046?profile=original
ATTENDEE;ROLE=REQ-PARTICIPANT;PARTSTAT=ACCEPTED;RSVP=TRUE;CN="Chuck Aa
 ron":https://www.southeastwheelsevents.com/profile/ChuckAaron
END:VEVENT
END:VCALENDAR
