BEGIN:VCALENDAR
PRODID:NingEventWidget-v1
VERSION:2.0
METHOD:PUBLISH
BEGIN:VTIMEZONE
TZID:Pacific/Midway
X-LIC-LOCATION:Pacific/Midway
BEGIN:STANDARD
TZOFFSETFROM:-1100
TZOFFSETTO:-1100
TZNAME:SST
DTSTART:19700101T000000
END:STANDARD
END:VTIMEZONE
BEGIN:VEVENT
UID:5072275:Event:1027427
DTSTAMP:20260420T004246Z
SUMMARY:Whats New & Improved at Bumpus H-D Murfreesboro
DESCRIPTION:Whats New & Improved at Bumpus H-D Murfreesboro. What's ch
 anged over the past decade-we'll take a look at 2010, 2014 and a 2017 
 models and show the changes. 11am: LED lighting Seminar, 1pm: Boom!aud
 io seminar. Event end time may change.\n\nFor more information visit h
 ttps://www.southeastwheelsevents.com/events/whats-new-improved-at-bump
 us-h-d-murfreesboro
DTSTART;TZID=Pacific/Midway:20170114T100000
DTEND;TZID=Pacific/Midway:20170114T160000
CATEGORIES:promo
LOCATION:Bumpus H-D Murfreesboro
WEBSITE:http://www.bumpusharleymurfreesboro.com/check-out-our-events--
 xcalendar
URL:http://www.bumpusharleymurfreesboro.com/check-out-our-events--xcal
 endar
CONTACT:
ORGANIZER:Bumpus H-D Murfreesboro
ATTACH;FMTTYPE="image/jpeg":http://storage.ning.com/topology/rest/1.0/
 file/get/967723452?profile=original
ATTENDEE;ROLE=REQ-PARTICIPANT;PARTSTAT=ACCEPTED;RSVP=TRUE;CN="Christop
 her Gosney":https://www.southeastwheelsevents.com/profile/ChristopherG
 osney
END:VEVENT
END:VCALENDAR
