BEGIN:VCALENDAR
PRODID:NingEventWidget-v1
VERSION:2.0
METHOD:PUBLISH
BEGIN:VTIMEZONE
TZID:Pacific/Midway
X-LIC-LOCATION:Pacific/Midway
BEGIN:STANDARD
TZOFFSETFROM:-1100
TZOFFSETTO:-1100
TZNAME:SST
DTSTART:19700101T000000
END:STANDARD
END:VTIMEZONE
BEGIN:VEVENT
UID:5072275:Event:997491
DTSTAMP:20260423T113454Z
SUMMARY:Wheels by the Sea Cruise In
DESCRIPTION:Every first Wednesday of the month Wheels by the Sea will 
 host a Cruise Night.  All vehicles are welcome, Cars, Trucks and Moto
 rcycles of any vintage.  Fuzzy peach frozen yogurt will be discounted
  to all participants.  Sponsors choice awards and 50/50 contest.  Co
 me and see some of the vehicles in the area and make some new friends 
 while doing so.\n\nFor more information visit https://www.southeastwhe
 elsevents.com/events/wheels-by-the-sea-cruise-in
DTSTART;TZID=Pacific/Midway:20160803T180000
DTEND;TZID=Pacific/Midway:20160803T210000
CATEGORIES:cruise, in
LOCATION:Fuzzy Peach
WEBSITE:
URL:
CONTACT:410-507-7899
ORGANIZER;CN="Ted Wright":https://www.southeastwheelsevents.com/profil
 e/TedWright
ATTACH;FMTTYPE="image/jpeg":http://storage.ning.com/topology/rest/1.0/
 file/get/967708887?profile=original
ATTENDEE;ROLE=REQ-PARTICIPANT;PARTSTAT=ACCEPTED;RSVP=TRUE;CN="Ted Wrig
 ht":https://www.southeastwheelsevents.com/profile/TedWright
END:VEVENT
END:VCALENDAR
