BEGIN:VCALENDAR
PRODID:NingEventWidget-v1
VERSION:2.0
METHOD:PUBLISH
BEGIN:VTIMEZONE
TZID:Pacific/Midway
X-LIC-LOCATION:Pacific/Midway
BEGIN:STANDARD
TZOFFSETFROM:-1100
TZOFFSETTO:-1100
TZNAME:SST
DTSTART:19700101T000000
END:STANDARD
END:VTIMEZONE
BEGIN:VEVENT
UID:5072275:Event:495209
DTSTAMP:20260423T175855Z
SUMMARY:Wheels in the Valley, Fort Valley, GA
DESCRIPTION:\n \n \n \n \nSixth Annual Wheels in the Valley Car, B
 ike, and Truck Show.\nTop 100, All Years Welcom\n\nFor more informatio
 n visit https://www.southeastwheelsevents.com/events/wheels-in-the-val
 ley-fort-valley-ga
DTSTART;TZID=Pacific/Midway:20120414T080000
DTEND;TZID=Pacific/Midway:20120414T160000
CATEGORIES:car, show
LOCATION:Whildcat Stadium Parking Lot
WEBSITE:http://www.fvsu.edu/wheels
URL:http://www.fvsu.edu/wheels
CONTACT:478-825-6290
ORGANIZER:Wallace Keese
ATTACH;FMTTYPE="image/jpeg":http://storage.ning.com/topology/rest/1.0/
 file/get/967615499?profile=original
ATTENDEE;ROLE=REQ-PARTICIPANT;PARTSTAT=ACCEPTED;RSVP=TRUE;CN="Brian By
 rd":https://www.southeastwheelsevents.com/profile/BrianByrd
END:VEVENT
END:VCALENDAR
