BEGIN:VCALENDAR
PRODID:NingEventWidget-v1
VERSION:2.0
METHOD:PUBLISH
BEGIN:VTIMEZONE
TZID:Pacific/Midway
X-LIC-LOCATION:Pacific/Midway
BEGIN:STANDARD
TZOFFSETFROM:-1100
TZOFFSETTO:-1100
TZNAME:SST
DTSTART:19700101T000000
END:STANDARD
END:VTIMEZONE
BEGIN:VEVENT
UID:5072275:Event:21502
DTSTAMP:20260421T202536Z
SUMMARY:White Christmas Car Show- Canton,Ga
DESCRIPTION:White Christmas Car Show- Canton,Ga\n\nFor more informatio
 n visit https://www.southeastwheelsevents.com/events/white-christmas-c
 ar-show
DTSTART;TZID=Pacific/Midway:20100508T110000
DTEND;TZID=Pacific/Midway:20100508T170000
CATEGORIES:car-show
LOCATION:First Baptist Church
WEBSITE:
URL:
CONTACT:Sam 404-308-1281 or Kieth 404-226-8087
ORGANIZER:
ATTACH;FMTTYPE="image/jpeg":
END:VEVENT
END:VCALENDAR
