BEGIN:VCALENDAR
PRODID:NingEventWidget-v1
VERSION:2.0
METHOD:PUBLISH
BEGIN:VTIMEZONE
TZID:Pacific/Midway
X-LIC-LOCATION:Pacific/Midway
BEGIN:STANDARD
TZOFFSETFROM:-1100
TZOFFSETTO:-1100
TZNAME:SST
DTSTART:19700101T000000
END:STANDARD
END:VTIMEZONE
BEGIN:VEVENT
UID:5072275:Event:3598
DTSTAMP:20260420T234108Z
SUMMARY:WHS Band Car and Motorcycle Show -Stockbridge, Ga
DESCRIPTION:Car and Motorcycle Show to benefit the Woodland High Schoo
 l WolfPack Band.\n\nTime: April 17, 2010 from 9am to 3pm\nLocation: St
 ockbridge Assembly of God\nStreet: 3910 N. Henry Blvd\nCity/Town: Stoc
 kbridge\nEvent Type: car, and, motorcycle, show\nOrganized By: WHS Ban
 d Booster Association\n\nFor more information visit https://www.southe
 astwheelsevents.com/events/whs-band-car-and-motorcycle
DTSTART;TZID=Pacific/Midway:20100417T090000
DTEND;TZID=Pacific/Midway:20100417T150000
CATEGORIES:car, and, motorcycle, show
LOCATION:Stockbridge Assembly of God
WEBSITE:
URL:
CONTACT:
ORGANIZER:WHS Band Booster Association
ATTACH;FMTTYPE="image/jpeg":http://storage.ning.com/topology/rest/1.0/
 file/get/967568003?profile=original
ATTENDEE;ROLE=REQ-PARTICIPANT;PARTSTAT=ACCEPTED;RSVP=TRUE;CN="Michael 
 Thies":https://www.southeastwheelsevents.com/profile/MichaelThies
END:VEVENT
END:VCALENDAR
