BEGIN:VCALENDAR
PRODID:NingEventWidget-v1
VERSION:2.0
METHOD:PUBLISH
BEGIN:VTIMEZONE
TZID:Pacific/Midway
X-LIC-LOCATION:Pacific/Midway
BEGIN:STANDARD
TZOFFSETFROM:-1100
TZOFFSETTO:-1100
TZNAME:SST
DTSTART:19700101T000000
END:STANDARD
END:VTIMEZONE
BEGIN:VEVENT
UID:5072275:Event:169494
DTSTAMP:20260421T031116Z
SUMMARY:WHS Car & Motorcycle Show - Stockbridge, GA
DESCRIPTION:4th Annual Car & Motorcycle Show to support the Woodland H
 igh School Band.  Saturday, April 16th - 10am to 2pm\nPreregistration
  $20, Onsite Registration $25\n\nFor more information visit https://ww
 w.southeastwheelsevents.com/events/whs-car-motorcycle-show
DTSTART;TZID=Pacific/Midway:20110416T100000
DTEND;TZID=Pacific/Midway:20110416T140000
CATEGORIES:fundraiser, -, woodland, high, school, band
LOCATION:Stockbridge Assembly of God
WEBSITE:http://woodlandhighschoolband.com
URL:http://woodlandhighschoolband.com
CONTACT:678-289-1627
ORGANIZER;CN=Susan:https://www.southeastwheelsevents.com/profile/Susan
ATTACH;FMTTYPE="image/jpeg":
ATTENDEE;ROLE=REQ-PARTICIPANT;PARTSTAT=ACCEPTED;RSVP=TRUE;CN=Susan:htt
 ps://www.southeastwheelsevents.com/profile/Susan
END:VEVENT
END:VCALENDAR
