BEGIN:VCALENDAR
PRODID:NingEventWidget-v1
VERSION:2.0
METHOD:PUBLISH
BEGIN:VTIMEZONE
TZID:Pacific/Midway
X-LIC-LOCATION:Pacific/Midway
BEGIN:STANDARD
TZOFFSETFROM:-1100
TZOFFSETTO:-1100
TZNAME:SST
DTSTART:19700101T000000
END:STANDARD
END:VTIMEZONE
BEGIN:VEVENT
UID:5072275:Event:16478
DTSTAMP:20260420T233243Z
SUMMARY:Wild Game Feast & Car Show -Jacksonville,FL
DESCRIPTION:Wild Game Feast & Car Show\nNorth Jacksonville Baptist Chu
 rch\nInfo Matt Clark 904-641-0006\n\nFor more information visit https:
 //www.southeastwheelsevents.com/events/wild-game-feast-car-show
DTSTART;TZID=Pacific/Midway:20100417T100000
DTEND;TZID=Pacific/Midway:20100417T150000
CATEGORIES:"car-show.", festival
LOCATION:North Jacksonville Baptist Church
WEBSITE:
URL:
CONTACT:Matt Clark 904-641-0006
ORGANIZER:Pontiac-Oakland Club International Dixie Chaptee
ATTACH;FMTTYPE="image/jpeg":http://storage.ning.com/topology/rest/1.0/
 file/get/967575860?profile=original
ATTENDEE;ROLE=REQ-PARTICIPANT;PARTSTAT=ACCEPTED;RSVP=TRUE;CN="Greg Bjo
 rg":https://www.southeastwheelsevents.com/profile/GregBjorg876
ATTENDEE;ROLE=REQ-PARTICIPANT;PARTSTAT=ACCEPTED;RSVP=TRUE;CN="Michael 
 Thies":https://www.southeastwheelsevents.com/profile/MichaelThies
END:VEVENT
END:VCALENDAR
