BEGIN:VCALENDAR
PRODID:NingEventWidget-v1
VERSION:2.0
METHOD:PUBLISH
BEGIN:VTIMEZONE
TZID:Pacific/Midway
X-LIC-LOCATION:Pacific/Midway
BEGIN:STANDARD
TZOFFSETFROM:-1100
TZOFFSETTO:-1100
TZNAME:SST
DTSTART:19700101T000000
END:STANDARD
END:VTIMEZONE
BEGIN:VEVENT
UID:5072275:Event:1052787
DTSTAMP:20260423T171653Z
SUMMARY:Wilderness Trail  ROD RUN -Kingsport, TN
DESCRIPTION:\n\nHistoric Kingsport Train StationÂ Â Â Â Â Â Â Â Â Â Â 
 Â Â Â Â Â Â Â Â \n\nÂ \nWilderness Trail\nROD RUN\nMAY 27, 2017\nPRE R
 EGISTRATION â€¦â€¦â€¦â€¦.. $10.00\nDAY OF SHOW â€¦â€¦â€¦â€¦â€¦â€¦â€¦..
 $15.00\n(Use Form at Bottom to Pre-Register)\nPre-Registration Deadlin
 e: May 22 2017\nÂ \nLOCAL HOTEL INFORMATION\nMARRIOTTÂ  (Host Hotel)Â 
 Â Â Â Â Â Â Â Â  (423) 578-6600\nCOMFORT INNÂ Â Â Â Â Â Â Â Â Â Â Â Â 
 Â Â Â Â Â Â Â Â Â Â  (423) 378-4418\nHAMPTON INNÂ Â Â Â Â Â Â Â Â Â Â 
 Â Â Â Â Â Â Â Â Â Â Â Â  (423) 247-3888\nJAMESON INNÂ Â Â Â Â Â Â Â Â 
 Â Â Â Â Â Â Â Â Â Â Â Â Â Â Â  (423) 230-0534\nHOLIDAY INN EXPRESSÂ Â 
 Â  Â Â Â Â Â Â (423) 723-2300\nDrawing for Bicycles for Children 12 & 
 under\nOver $1000 in Cash Prizes\n\nSponsored By:\nRainbow Motors\nKin
 gsport, TN (423) 288-5827\nCall Mike Smith (423)676-4343 or carsmith10
 1@hotmail.com for more Information\nPrint this form and mail it with p
 ayment to the address below\nREMIT CHECKS TO:Â Â Â Â Â Â Â Â  KINGSPOR
 T ANTIQUE AND ROD CLUB\nÂ Â Â Â Â Â Â Â Â Â Â Â Â Â Â Â Â Â Â Â Â Â Â 
 Â Â Â Â Â  Â Â Â Â Â Â Â Â Â Â Â Â Â Â Â Â Â P.O. Box 775\nÂ Â Â Â Â Â
  Â Â Â Â Â Â Â Â Â Â Â Â Â Â Â Â Â Â Â Â Â Â Â Â Â Â Â Â Â Â Â Â Â Â Â
  Â Â Â Â  KINGSPORT, TN 37662-0775\n\n\n\n\n\n\n\n\n\nFor more informa
 tion visit https://www.southeastwheelsevents.com/events/wilderness-tra
 il-rod-run-kingsport-tn-1
DTSTART;TZID=Pacific/Midway:20170527T130000
DTEND;TZID=Pacific/Midway:20170527T180000
CATEGORIES:cruise-in
LOCATION:Train Station
WEBSITE:http://kingsportantiqueandrodclub.com/
URL:http://kingsportantiqueandrodclub.com/
CONTACT:Dave 423-247-3124
ORGANIZER:Kingsport Antique and Rod Club
ATTACH;FMTTYPE="image/jpeg":http://storage.ning.com/topology/rest/1.0/
 file/get/967685246?profile=original
ATTENDEE;ROLE=REQ-PARTICIPANT;PARTSTAT=ACCEPTED;RSVP=TRUE;CN="Chuck Aa
 ron":https://www.southeastwheelsevents.com/profile/ChuckAaron886
END:VEVENT
END:VCALENDAR
