BEGIN:VCALENDAR
PRODID:NingEventWidget-v1
VERSION:2.0
METHOD:PUBLISH
BEGIN:VTIMEZONE
TZID:Pacific/Midway
X-LIC-LOCATION:Pacific/Midway
BEGIN:STANDARD
TZOFFSETFROM:-1100
TZOFFSETTO:-1100
TZNAME:SST
DTSTART:19700101T000000
END:STANDARD
END:VTIMEZONE
BEGIN:VEVENT
UID:5072275:Event:54391
DTSTAMP:20260425T040717Z
SUMMARY:Williamston Spring Water Festival -Williamston, SC
DESCRIPTION:Williamston Spring Water Festival Auto Show Awards to Top 
 50, Plus Six specialty awards\n\nFor more information visit https://ww
 w.southeastwheelsevents.com/events/williamston-spring-water
DTSTART;TZID=Pacific/Midway:20240824T080000
DTEND;TZID=Pacific/Midway:20240824T160000
CATEGORIES:festival, and, car, show
LOCATION:Williamston Fire Department
WEBSITE:http://www.williamstonfire.com
URL:http://www.williamstonfire.com
CONTACT:864-844-7101
ORGANIZER;CN="Steve Ellison":https://www.southeastwheelsevents.com/pro
 file/SteveEllison
ATTACH;FMTTYPE="image/jpeg":http://storage.ning.com/topology/rest/1.0/
 file/get/967582556?profile=original
ATTENDEE;ROLE=REQ-PARTICIPANT;PARTSTAT=ACCEPTED;RSVP=TRUE;CN="Steve El
 lison":https://www.southeastwheelsevents.com/profile/SteveEllison
ATTENDEE;ROLE=REQ-PARTICIPANT;PARTSTAT=ACCEPTED;RSVP=TRUE;CN="Chuck Aa
 ron":https://www.southeastwheelsevents.com/profile/ChuckAaron
ATTENDEE;ROLE=REQ-PARTICIPANT;PARTSTAT=ACCEPTED;RSVP=TRUE;CN="Anthony 
 ":https://www.southeastwheelsevents.com/profile/Anthony477
ATTENDEE;ROLE=REQ-PARTICIPANT;PARTSTAT=ACCEPTED;RSVP=TRUE;CN="Chuck Aa
 ron":https://www.southeastwheelsevents.com/profile/ChuckAaron886
ATTENDEE;ROLE=REQ-PARTICIPANT;PARTSTAT=ACCEPTED;RSVP=TRUE;CN="Al Gepha
 rt":https://www.southeastwheelsevents.com/profile/AlGephart905
ATTENDEE;ROLE=REQ-PARTICIPANT;PARTSTAT=TENTATIVE;RSVP=TRUE;CN="Tony Be
 rnat":https://www.southeastwheelsevents.com/profile/TonyBernat
END:VEVENT
END:VCALENDAR
