BEGIN:VCALENDAR
PRODID:NingEventWidget-v1
VERSION:2.0
METHOD:PUBLISH
BEGIN:VTIMEZONE
TZID:Pacific/Midway
X-LIC-LOCATION:Pacific/Midway
BEGIN:STANDARD
TZOFFSETFROM:-1100
TZOFFSETTO:-1100
TZNAME:SST
DTSTART:19700101T000000
END:STANDARD
END:VTIMEZONE
BEGIN:VEVENT
UID:5072275:Event:240519
DTSTAMP:20260424T154707Z
SUMMARY:Winder Barrow High School Band Benefit Antique Car, Truck, Mot
 orcycle and Tractor Show -Winder, Ga
DESCRIPTION:Update on the show. Due to the amount of inquiries we have
  added several more classes. We will be awarding trophies for the Best
  Ford, Chevy, Mopar, BOP, Rat Rod, Import, Tractor, Truck, Motorcycle,
  1990 - 1999, 2000 - Up, Corvette, Most Unique, Work in Progress, and 
 Hand Built. We also have Furthest Distance Traveled, People's Choice, 
 Best of Show and W-BHS Band's Choice. We are also awarding 15 Best Top
  15 plaques. Gates will open at 7:00 am, come early and get a good spo
 t. Thanks to our sponsors.\n \nWe are doing a benefit car, truck, mot
 orcycle and tractor show. The proceeds from this show will help fund 
 needed equipment for the different band programs at the high school. T
 he entree fee is only $ 10.00 per car and awards will be at 2:30 p.m.
  We will be selling t shirts, food and drinks. We will have a 50 / 50 
 drawing, door prizes and will be awarding 18 trophy's and 15 plaques.
  If anyone is interested in sponsoring the show for a donation of $ 10
 0.00 you'll get your name printed on the back of the t shirts for adve
 rtising. Any questions feel free to call or email. Thank you for dona
 tions: Richard Scott, Prowler Productions, the TWs, SE Wheels Events, 
 and the Dixie Cruisers\n\nFor more information visit https://www.south
 eastwheelsevents.com/events/winder-barrow-high-school-band
DTSTART;TZID=Pacific/Midway:20110730T090000
DTEND;TZID=Pacific/Midway:20110730T170000
CATEGORIES:benefit, fundraiser, car, truck, motorcycle, tractor, show,
  antique, classic, cruise-in, car-show
LOCATION:Winder Barrow High School Football Stadium
WEBSITE:
URL:
CONTACT:770-868-9017
ORGANIZER;CN="William O. Reidling":https://www.southeastwheelsevents.c
 om/profile/WilliamOReidling
ATTACH;FMTTYPE="image/jpeg":http://storage.ning.com/topology/rest/1.0/
 file/get/967595554?profile=original
ATTENDEE;ROLE=REQ-PARTICIPANT;PARTSTAT=ACCEPTED;RSVP=TRUE;CN="Dan Blac
 k":https://www.southeastwheelsevents.com/profile/DanBlack
ATTENDEE;ROLE=REQ-PARTICIPANT;PARTSTAT=ACCEPTED;RSVP=TRUE;CN="art gail
 ey":https://www.southeastwheelsevents.com/profile/artgailey
ATTENDEE;ROLE=REQ-PARTICIPANT;PARTSTAT=ACCEPTED;RSVP=TRUE;CN="Lenny   
   Major":https://www.southeastwheelsevents.com/profile/LennyMajor
ATTENDEE;ROLE=REQ-PARTICIPANT;PARTSTAT=ACCEPTED;RSVP=TRUE;CN="christop
 her henson":https://www.southeastwheelsevents.com/profile/christopherh
 enson
ATTENDEE;ROLE=REQ-PARTICIPANT;PARTSTAT=ACCEPTED;RSVP=TRUE;CN="Michael 
 Thies":https://www.southeastwheelsevents.com/profile/MichaelThies
ATTENDEE;ROLE=REQ-PARTICIPANT;PARTSTAT=ACCEPTED;RSVP=TRUE;CN="Dave Wil
 liams":https://www.southeastwheelsevents.com/profile/DaveWilliams
ATTENDEE;ROLE=REQ-PARTICIPANT;PARTSTAT=ACCEPTED;RSVP=TRUE;CN="Ed Mistr
 etta":https://www.southeastwheelsevents.com/profile/EdMistretta
ATTENDEE;ROLE=REQ-PARTICIPANT;PARTSTAT=ACCEPTED;RSVP=TRUE;CN="Darlene 
 Scott":https://www.southeastwheelsevents.com/profile/Darlene
ATTENDEE;ROLE=REQ-PARTICIPANT;PARTSTAT=ACCEPTED;RSVP=TRUE;CN="Mike Nie
 to":https://www.southeastwheelsevents.com/profile/MikeNieto
ATTENDEE;ROLE=REQ-PARTICIPANT;PARTSTAT=ACCEPTED;RSVP=TRUE;CN="James Po
 well Jr":https://www.southeastwheelsevents.com/profile/JamesPowellJr
ATTENDEE;ROLE=REQ-PARTICIPANT;PARTSTAT=ACCEPTED;RSVP=TRUE;CN="Bob Hart
 man":https://www.southeastwheelsevents.com/profile/BobHartman
ATTENDEE;ROLE=REQ-PARTICIPANT;PARTSTAT=ACCEPTED;RSVP=TRUE;CN="Jake Duf
 field":https://www.southeastwheelsevents.com/profile/JakeDuffield
ATTENDEE;ROLE=REQ-PARTICIPANT;PARTSTAT=ACCEPTED;RSVP=TRUE;CN="Richard 
 Scott":https://www.southeastwheelsevents.com/profile/RichardScott
ATTENDEE;ROLE=REQ-PARTICIPANT;PARTSTAT=ACCEPTED;RSVP=TRUE;CN="William 
 O. Reidling":https://www.southeastwheelsevents.com/profile/WilliamORei
 dling
ATTENDEE;ROLE=REQ-PARTICIPANT;PARTSTAT=TENTATIVE;RSVP=TRUE;CN="Mike Da
 ly Sr":https://www.southeastwheelsevents.com/profile/MikeDalySr
ATTENDEE;ROLE=REQ-PARTICIPANT;PARTSTAT=TENTATIVE;RSVP=TRUE;CN="Steven 
 Skubal":https://www.southeastwheelsevents.com/profile/StevenSkubal
ATTENDEE;ROLE=REQ-PARTICIPANT;PARTSTAT=TENTATIVE;RSVP=TRUE;CN="larry s
 haw":https://www.southeastwheelsevents.com/profile/larryshaw
ATTENDEE;ROLE=REQ-PARTICIPANT;PARTSTAT=TENTATIVE;RSVP=TRUE;CN="Greg Fo
 ster":https://www.southeastwheelsevents.com/profile/GregFoster
ATTENDEE;ROLE=REQ-PARTICIPANT;PARTSTAT=TENTATIVE;RSVP=TRUE;CN="joe goo
 dmon":https://www.southeastwheelsevents.com/profile/joegoodmon
ATTENDEE;ROLE=REQ-PARTICIPANT;PARTSTAT=TENTATIVE;RSVP=TRUE;CN=Keith:ht
 tps://www.southeastwheelsevents.com/profile/Keith
ATTENDEE;ROLE=REQ-PARTICIPANT;PARTSTAT=TENTATIVE;RSVP=TRUE;CN="John Cu
 rtis Smith":https://www.southeastwheelsevents.com/profile/JohnCurtisSm
 ith
END:VEVENT
END:VCALENDAR
