BEGIN:VCALENDAR
PRODID:NingEventWidget-v1
VERSION:2.0
METHOD:PUBLISH
BEGIN:VTIMEZONE
TZID:Pacific/Midway
X-LIC-LOCATION:Pacific/Midway
BEGIN:STANDARD
TZOFFSETFROM:-1100
TZOFFSETTO:-1100
TZNAME:SST
DTSTART:19700101T000000
END:STANDARD
END:VTIMEZONE
BEGIN:VEVENT
UID:5072275:Event:1058655
DTSTAMP:20260424T104257Z
SUMMARY:Winery Classic Car Show -Danielsville, GA
DESCRIPTION:A Fundraiser in Support of the Madison County Food Bank\nI
 n an effort to support the ongoing fight against hunger in Madison Cou
 nty, Boutier Winery & Vineyards is proud to present the first annual â
 €śFestival in the Vinesâ€ť. The event will take place on Saturday, Jul
 y 15th, and all proceeds will go to benefit the Madison County Food Ba
 nk.\nA full day of activities and attractions is planned, and WLHR 92.
 1 will broadcast live from the venue. The event will kick off at 7:00 
 AM with a 5k run for all ages and levels. An antique and classic car s
 how will be held from 11:00 AM to 3:00 PM. Throughout the day there wi
 ll be food and craft booths, a bounce castle, train rides, a dunking b
 ooth, and a silent auction.\nThe celebration will continue into the ev
 ening with live music and a live auction starting at 8:00 PM.Â A cover
  charge will be collected at the door. All proceeds from this fee will
  be donated to the Madison County Food Bank.\nThe hosts for the event 
 are Victor and Mary Boutier, owners of Boutier Winery & Vineyards. Adm
 ission is free, but guests are asked to bring canned food or a tax ded
 uctible donation (cash, check, or credit cards accepted).\nâ€śWeâ€™ve 
 done canned food drives in the past, but this year we decided to expan
 d the effort to add more festivity and bring in more food,â€ť said Mar
 y. â€śWe also wanted to promote community awareness and involvement. M
 ost people really do want to help. They just need a reminder every now
  and then.â€ť\n\nAccording to Bobbie Rooker, Director of the Madison C
 ounty Food Bank, the organization assists 200+ individuals each month.
 \nâ€śThis year the goal is to raise enough to add assistance to critic
 ally ill Madison County senior citizens,â€ť Rooker said. â€śSo many mu
 st decide between their medication of their food, but we can help with
  the latter.â€ť\n\nFor more information about the event or to register
  for the 5k run ($25 fee), please contact Victor or Mary Boutier at in
 fo@boutierwinery.com or 706-789-0059.\n\nFor more information visit ht
 tps://www.southeastwheelsevents.com/events/winery-classic-car-show-dan
 ielsville-ga
DTSTART;TZID=Pacific/Midway:20170715T110000
DTEND;TZID=Pacific/Midway:20170715T150000
CATEGORIES:car, show, festival, fund, raiser
LOCATION:Boutier Winery & Vineyards
WEBSITE:https://boutierwinery.com/tag/classic-car-show/
URL:https://boutierwinery.com/tag/classic-car-show/
CONTACT:706-789-0059  info@boutierwinery.com
ORGANIZER:Boutier Winery & Vineyards
ATTACH;FMTTYPE="image/jpeg":http://storage.ning.com/topology/rest/1.0/
 file/get/967750217?profile=original
ATTENDEE;ROLE=REQ-PARTICIPANT;PARTSTAT=ACCEPTED;RSVP=TRUE;CN="Al Gepha
 rt":https://www.southeastwheelsevents.com/profile/AlGephart
ATTENDEE;ROLE=REQ-PARTICIPANT;PARTSTAT=ACCEPTED;RSVP=TRUE;CN="Chuck Aa
 ron":https://www.southeastwheelsevents.com/profile/ChuckAaron886
END:VEVENT
END:VCALENDAR
