BEGIN:VCALENDAR
PRODID:NingEventWidget-v1
VERSION:2.0
METHOD:PUBLISH
BEGIN:VTIMEZONE
TZID:Pacific/Midway
X-LIC-LOCATION:Pacific/Midway
BEGIN:STANDARD
TZOFFSETFROM:-1100
TZOFFSETTO:-1100
TZNAME:SST
DTSTART:19700101T000000
END:STANDARD
END:VTIMEZONE
BEGIN:VEVENT
UID:5072275:Event:1172447
DTSTAMP:20260423T185116Z
SUMMARY:Wings & Whitewalls -Marietta, GA
DESCRIPTION:Atlanta’s most unique setting to show off your ride!\r\n
 Aerodynamics and thrust from vintage aircraft meet the classic styling
  and horsepower of the area’s best-looking rides.\r\nWith live music
 , vendors, food, and plenty of your friends, the 5th annual Wings & Wh
 itewalls car show is sure to be better than ever. Not only will you ha
 ve a great time, but your admission fees will be supporting the missio
 n of the Aviation History & Technology Center as it honors the legacy 
 of aviation and the military in our community.\r\nFeatures\r\n\r\nLive
  Music (TBD)\r\nVintage Pin-up Contest\r\nFood and Snack Vendors (TBD)
 \r\nClothing and Other Vendors\r\n\r\nClasses\r\nEligible for the spec
 ial Wings & Whitewalls trophies\r\n\r\nClassic 1946-1964\r\nMuscle 196
 5-1974\r\nAntique 1900-1945\r\nHot Rod 1920-1939\r\nCar club\r\nLow Ri
 der\r\n\r\nAdmission\r\n\r\n$15-Early Car Registration (includes drive
 r)** Ends OCTOBER 5 at 5:00 PM**\r\n$20 - Day of Event Car Registratio
 n (includes driver)\r\n$5 - General Admission for Additional Passenger
 s / Spectators\r\n\r\n \r\n\r\nOnly registered show cars will be allo
 wed inside the fenced area on the day of the event. Enter via the Perr
 in Road main entrance for placement in the show area.\r\nParking will 
 be on a first come basis with the earliest cars being placed closest t
 o the stage and pedestrian area.\r\nUpon arrival, show cars are to fol
 low the guidance of designated show parking staff.\r\nFree spectator p
 arking will be provided in the grass field adjacent to the museum. If 
 you are not entering your car in the show, please follow parking staff
  guidance and proceed north along Atlantic Avenue to the field entranc
 e.\r\nNo reserving of spaces will be allowed for show cars. If you wan
 t to park with other show cars, please plan for your entire group to a
 rrive together and let the parking staff know you want to be placed to
 gether.\r\nFor the protection of people, cars, and aircraft, pop-up sh
 ade tents/ shelters are only allowed in the designated areas and must 
 have sandbags/ weights to prevent fly-aways that could damage vehicles
  or aircraft.\r\nAHTC and MMH, Inc. are not responsible for damage cau
 sed by others.\r\nFor further questions about the show, please email i
 nfo@ahtc360.org.\r\n\r\nAdditional donations are sincerely appreciated
  to support the Aviation History & Technology Center, a 501(c )(3) non
 profit organization. If you would like to donate, please visit www.aht
 c360.org/get-involved\n\nFor more information visit https://www.southe
 astwheelsevents.com/events/wings-over-whitewalls
DTSTART;TZID=Pacific/Midway:20241005T110000
DTEND;TZID=Pacific/Midway:20241005T150000
CATEGORIES:car, show, plane
LOCATION:AVIATION WING of MARIETTA
WEBSITE:
URL:
CONTACT:770-910-5700
ORGANIZER:
ATTACH;FMTTYPE="image/jpeg":https://storage.ning.com/topology/rest/1.0
 /file/get/3171538235?profile=original
ATTENDEE;ROLE=REQ-PARTICIPANT;PARTSTAT=ACCEPTED;RSVP=TRUE;CN="Jeffrey 
 Rutherford":https://www.southeastwheelsevents.com/profile/JeffreyRuthe
 rford866
ATTENDEE;ROLE=REQ-PARTICIPANT;PARTSTAT=ACCEPTED;RSVP=TRUE;CN="robbie p
 adgett":https://www.southeastwheelsevents.com/profile/robbiepadgett
END:VEVENT
END:VCALENDAR
