BEGIN:VCALENDAR
PRODID:NingEventWidget-v1
VERSION:2.0
METHOD:PUBLISH
BEGIN:VTIMEZONE
TZID:Pacific/Midway
X-LIC-LOCATION:Pacific/Midway
BEGIN:STANDARD
TZOFFSETFROM:-1100
TZOFFSETTO:-1100
TZNAME:SST
DTSTART:19700101T000000
END:STANDARD
END:VTIMEZONE
BEGIN:VEVENT
UID:5072275:Event:1028622
DTSTAMP:20260423T122726Z
SUMMARY:Winter Angel Expo
DESCRIPTION:Indoor Vehicle/Motorcycle show sponsored by The Hamblen Co
 unty Car Club Located in Morristown, TN. The show will be held at The 
 Smokey Mountain Expo Center 1615 Pavilion Drive, White Pine TN 37890 o
 n Jan. 21st & 22nd, 2017. Limited to first 150 vehicles. Set up time i
 s Friday Jan 20th Noon to 7 PM & Sat Jan. 21st 8 AM - Noon. Entry Fee 
 is $25.00 per vehicle, pre registration prior to Dec.31, 2016 includes
  a free event T Shirt. For information and event registration form Con
 tact: Gene Honeycutt 423-312-6972 or William Bailey 423-312-0551. Show
  times are: Sat. Noon-7PM, Sun. 11 AM- 3 PM. Inside vendor space 10 X 
 10 at $45.00 each is available: Contact Albert Combs 423-438-4091. Als
 o a National Model Car Show will be held on Sat. Jan 21st from 9 AM - 
 3 PM Contact: Jeff Marsh 423-312-2611 between 5 pm & 9 pm. General adm
 ission is $5.00 per adult, children under 12 free with paid adult. www
 .winterangelexpo.comCars $25.00. Gen Admin: $5.00         \n\
 nFor more information visit https://www.southeastwheelsevents.com/even
 ts/winter-angel-expo
DTSTART;TZID=Pacific/Midway:20170120T120000
DTEND;TZID=Pacific/Midway:20170122T190000
CATEGORIES:cars, "clubs/shows/cruises", "customs/rods/mods"
LOCATION:The Smokey Mountain Expo Center
WEBSITE:http://www.winterangelexpo.com/
URL:http://www.winterangelexpo.com/
CONTACT:Gene Honeycutt at 423-312-6972 or call William Bailey at 423-3
 12-0551
ORGANIZER:The Hamblen County Car Club
ATTACH;FMTTYPE="image/jpeg":http://storage.ning.com/topology/rest/1.0/
 file/get/967729595?profile=original
ATTENDEE;ROLE=REQ-PARTICIPANT;PARTSTAT=ACCEPTED;RSVP=TRUE;CN="Chris go
 sney":https://www.southeastwheelsevents.com/profile/Chrisgosney
END:VEVENT
END:VCALENDAR
