BEGIN:VCALENDAR
PRODID:NingEventWidget-v1
VERSION:2.0
METHOD:PUBLISH
BEGIN:VTIMEZONE
TZID:Pacific/Midway
X-LIC-LOCATION:Pacific/Midway
BEGIN:STANDARD
TZOFFSETFROM:-1100
TZOFFSETTO:-1100
TZNAME:SST
DTSTART:19700101T000000
END:STANDARD
END:VTIMEZONE
BEGIN:VEVENT
UID:5072275:Event:852813
DTSTAMP:20260419T050304Z
SUMMARY:WINTERFEST -Tampa, FL
DESCRIPTION:\n\n\n\n\nUPDATE!!! Tickets are now on SALE!!! click here
  to purchase.\n12/13/14 ILDS brings you WinterFest 2014.This year w
 e’re giving away a Free Vinly Wrap to a Lucky person who donates a t
 oy to Toys for Tots.\nThis year’s giveaway is brought to you Courtes
 y of Candy Wraps “Known for the sweetest Wraps Around”\nStay Tuned
  to: www.ildswinterfest.com for all your latest details and ticket i
 nformation\nOffical Hash-Tags: ‪#‎winterfest14prep‬ ‪#‎ildsw
 interfest‬ ‪#‎ildswf14‬\n*** Share and Invite****Thanks for yo
 ur Continuous support!\ns/o’s to Dante SweetFace RW last year’s al
 lstyles jam winner for the clip.\n\n\nINFO/RULES/ EXPECTATIONS\n\n\nIn
 formationWinter Fest is a Toys for Tots Event. Similar to last year ou
 r goal is to collect as many toys possible. This year we’re giving a
 way a free car vinyl wrap courtesy of Candy Wraps to someone that do
 nates a toy. In order to get a raffle ticket to win the vinyl wrap you
  MUST donate a toy to receive a raffle ticket.\nRules/Expectations:\
 n-If you plan on showing your car please remember this is a closed eve
 nt. (Once cars are parked they will remain parked until 3pm.) Spectato
 r’s cars can come and go as they please. | Contact events@ilovedriv
 ingslow.com for questions.\n-Going into the airport lobby is strictly
  prohibited.\n– Driving/Riding/Rucking around the show car area duri
 ng the event is strictly prohibited.\n-Day of pricing is more expensiv
 e and is firm. (Buy online to save.)\n-Show Cars, Teams, and vendors a
 ll have specific roll in times. Please show up at your respective roll
  in times to avoid forfeiting your money.\n-There will be no benefit s
 howing up anytime earlier than your roll in time. Anyone camping out w
 ill be asked to leave and return at their roll in time.\n– Media Pas
 s individuals will be the only \n\npeople with access to the Media Ac
 cess areas. (Anyone else would be asked to leave the event.)\n– Ther
 e will be plenty of food and drinks available, Coolers are welcomed. P
 lease leave your tent and grills at Home. (The event is held at a live
  airstrip so we cannot have any items blowing around)\n– There are d
 esignated smoking areas, please think before smoking as there are flam
 mable gas tanks within yards of the event. Please smoke in the correct
  Areas. There will be no smoking allowed in the Hanger.\nRestrictions-
 No Glass Bottles, Tents or Grills allowed at this event.-We will have 
 Food Trucks and Restrooms Available-Show Cars, Rucks/Motorcycles will 
 have no re-entry-This is a closed event. To keep from causing traffic 
 and accidents.\nFor Event Classes Click Here\nHope to see everyone th
 ere.\n \n\n\n\n\n\n\n\n\n\n\nFor more information visit https://www.s
 outheastwheelsevents.com/events/winterfest-tampa-fl
DTSTART;TZID=Pacific/Midway:20141213T110000
DTEND;TZID=Pacific/Midway:20141213T190000
CATEGORIES:car-show
LOCATION:Tampa Executive Airport
WEBSITE:http://ildswinterfest.com/
URL:http://ildswinterfest.com/
CONTACT:https://www.facebook.com/events/180883932112928
ORGANIZER:ILDS WineterFresh
ATTACH;FMTTYPE="image/jpeg":http://storage.ning.com/topology/rest/1.0/
 file/get/967678277?profile=original
ATTENDEE;ROLE=REQ-PARTICIPANT;PARTSTAT=ACCEPTED;RSVP=TRUE;CN="Chuck Aa
 ron":https://www.southeastwheelsevents.com/profile/ChuckAaron
END:VEVENT
END:VCALENDAR
