BEGIN:VCALENDAR
PRODID:NingEventWidget-v1
VERSION:2.0
METHOD:PUBLISH
BEGIN:VTIMEZONE
TZID:Pacific/Midway
X-LIC-LOCATION:Pacific/Midway
BEGIN:STANDARD
TZOFFSETFROM:-1100
TZOFFSETTO:-1100
TZNAME:SST
DTSTART:19700101T000000
END:STANDARD
END:VTIMEZONE
BEGIN:VEVENT
UID:5072275:Event:857124
DTSTAMP:20260424T234737Z
SUMMARY:Wiregrass Car, Truck Show & Cruise In -Wesley Chapel, FL
DESCRIPTION:\n2015 SERIES CAR AND TRUCK SHOW\nOCTOBER 11, 2015\n28211
  Paseo Drive, Wesley Chapel, Florida\nTHIS EVENT IS AN OPEN AND JUDGED
  SHOW\nAWARDS:\n2 Best of Shows in 50 classes Plus 15 Overall Best Of
  Shows And Club Participation\nDownload Oct. 11th Wiregrass Flyer Here
 \nEntry Fee: $15 pre-register or $20 day of show\nMail in pre-registra
 tion ends one week before show. Day of show registration time 10 A.M. 
 to 1 P.M. Awards presented at around 5 P.M.\nRegister up to Friday @ 
 3 P.M. before the show using MasterCard, Visa, AMEX or Discover Card.\
 n\n\nFor more information visit https://www.southeastwheelsevents.com/
 events/wiregrass-car-truck-show-cruise-in-wesley-chapel-fl-4
DTSTART;TZID=Pacific/Midway:20151011T100000
DTEND;TZID=Pacific/Midway:20151011T180000
CATEGORIES:car, truck, show
LOCATION:The Shops at Wiregrass
WEBSITE:http://premiumcarshows.com
URL:http://premiumcarshows.com
CONTACT:727-547-8082 premiumcarshows@verizon.net
ORGANIZER:Larry Dudley - Premium Productions
ATTACH;FMTTYPE="image/jpeg":http://storage.ning.com/topology/rest/1.0/
 file/get/967640630?profile=original
ATTENDEE;ROLE=REQ-PARTICIPANT;PARTSTAT=ACCEPTED;RSVP=TRUE;CN="Chuck Aa
 ron":https://www.southeastwheelsevents.com/profile/ChuckAaron
END:VEVENT
END:VCALENDAR
