BEGIN:VCALENDAR
PRODID:NingEventWidget-v1
VERSION:2.0
METHOD:PUBLISH
BEGIN:VTIMEZONE
TZID:Pacific/Midway
X-LIC-LOCATION:Pacific/Midway
BEGIN:STANDARD
TZOFFSETFROM:-1100
TZOFFSETTO:-1100
TZNAME:SST
DTSTART:19700101T000000
END:STANDARD
END:VTIMEZONE
BEGIN:VEVENT
UID:5072275:Event:1221871
DTSTAMP:20260423T220709Z
SUMMARY:Wolfpack Classic Car Show and Chilli Cook-off - Acworth, GA
DESCRIPTION:3rd Annual Wolfpack Classic Car Show and Chilli Cook-off a
 t Cedarcrest Church 4600 Cobb  Pkwy.\r\nRegistration begins 11:30am J
 udging begins at 3pm Awards at 4pm\r\nClick Here For Registration Form
 \n\nFor more information visit https://www.southeastwheelsevents.com/e
 vents/wolfpack-classic-car-show-and-chilli-cook-off-acworth-ga
DTSTART;TZID=Pacific/Midway:20201205T010000
DTEND;TZID=Pacific/Midway:20201205T170000
CATEGORIES:car, show, cruise-in
LOCATION:Cedarcrest Church
WEBSITE:https://www.facebook.com/NphsFootballMomsClub
URL:https://www.facebook.com/NphsFootballMomsClub
CONTACT:Stephanie Lowler (404) 427-0337
ORGANIZER:NPHS Football Mom's Club
ATTACH;FMTTYPE="image/jpeg":https://storage.ning.com/topology/rest/1.0
 /file/get/3700494213?profile=original
ATTENDEE;ROLE=REQ-PARTICIPANT;PARTSTAT=ACCEPTED;RSVP=TRUE;CN="Michael 
 Ruffalo":https://www.southeastwheelsevents.com/profile/MichaelRuffalo
ATTENDEE;ROLE=REQ-PARTICIPANT;PARTSTAT=ACCEPTED;RSVP=TRUE;CN="Chuck Aa
 ron":https://www.southeastwheelsevents.com/profile/ChuckAaron886
END:VEVENT
END:VCALENDAR
