BEGIN:VCALENDAR
PRODID:NingEventWidget-v1
VERSION:2.0
METHOD:PUBLISH
BEGIN:VTIMEZONE
TZID:Pacific/Midway
X-LIC-LOCATION:Pacific/Midway
BEGIN:STANDARD
TZOFFSETFROM:-1100
TZOFFSETTO:-1100
TZNAME:SST
DTSTART:19700101T000000
END:STANDARD
END:VTIMEZONE
BEGIN:VEVENT
UID:5072275:Event:823557
DTSTAMP:20260422T034159Z
SUMMARY:Woodland Baptist Church Car Show -Waynesville, NC
DESCRIPTION:Woodland Baptist Church Car Show -Waynesville, NC\n\nFor m
 ore information visit https://www.southeastwheelsevents.com/events/woo
 dland-baptist-church-car-show-waynesville-nc
DTSTART;TZID=Pacific/Midway:20170826T090000
DTEND;TZID=Pacific/Midway:20170826T130000
CATEGORIES:car-show
LOCATION:545 Crabtree Road
WEBSITE:http://www,woodlandbaptist.org
URL:http://www,woodlandbaptist.org
CONTACT:828-734-5201
ORGANIZER:Woodland Baptist Church
ATTACH;FMTTYPE="image/jpeg":http://storage.ning.com/topology/rest/1.0/
 file/get/967668749?profile=original
ATTENDEE;ROLE=REQ-PARTICIPANT;PARTSTAT=ACCEPTED;RSVP=TRUE;CN="Chuck Aa
 ron":https://www.southeastwheelsevents.com/profile/ChuckAaron
END:VEVENT
END:VCALENDAR
