BEGIN:VCALENDAR
PRODID:NingEventWidget-v1
VERSION:2.0
METHOD:PUBLISH
BEGIN:VTIMEZONE
TZID:Pacific/Midway
X-LIC-LOCATION:Pacific/Midway
BEGIN:STANDARD
TZOFFSETFROM:-1100
TZOFFSETTO:-1100
TZNAME:SST
DTSTART:19700101T000000
END:STANDARD
END:VTIMEZONE
BEGIN:VEVENT
UID:5072275:Event:966213
DTSTAMP:20260425T160047Z
SUMMARY:WOODSTOCK CAR CLUB MONTHLY CRUISE IN
DESCRIPTION:2nd FRIDAY OF THE MONTH\nWOODSTOCK CAR CLUB @ THE WOODSTOC
 K BOJANGLES\nCORNER OF TRICKUM RD & HIGHWAY 92\nIN WOODSTOCK GEORGIA\n
 6 PM TO 9 PM\n\nFor more information visit https://www.southeastwheels
 events.com/events/woodstock-car-club-monthly-cruise-in
DTSTART;TZID=Pacific/Midway:20170210T180000
DTEND;TZID=Pacific/Midway:20170210T210000
CATEGORIES:cruise, in
LOCATION:HIGHWAY 92 & TRICKUM RD
WEBSITE:
URL:
CONTACT:770-403-6747
ORGANIZER;CN="Scott Christian":https://www.southeastwheelsevents.com/p
 rofile/ScottChristian
ATTACH;FMTTYPE="image/jpeg":http://storage.ning.com/topology/rest/1.0/
 file/get/967707700?profile=original
ATTENDEE;ROLE=REQ-PARTICIPANT;PARTSTAT=ACCEPTED;RSVP=TRUE;CN="Scott Ch
 ristian":https://www.southeastwheelsevents.com/profile/ScottChristian
END:VEVENT
END:VCALENDAR
