BEGIN:VCALENDAR
PRODID:NingEventWidget-v1
VERSION:2.0
METHOD:PUBLISH
BEGIN:VTIMEZONE
TZID:Pacific/Midway
X-LIC-LOCATION:Pacific/Midway
BEGIN:STANDARD
TZOFFSETFROM:-1100
TZOFFSETTO:-1100
TZNAME:SST
DTSTART:19700101T000000
END:STANDARD
END:VTIMEZONE
BEGIN:VEVENT
UID:5072275:Event:742910
DTSTAMP:20260422T225410Z
SUMMARY:Wounded Warrior Car Show Darlington South Carolina
DESCRIPTION:Darlington Dragway Will Be Hosting A Car Show This Saturda
 y March 8th - Benefitting The Wounded Warrior Project. We Will Also Be
  running Our First Points Race Of The Season For Our Bracket Racers. G
 ates For Shoe Cars Open At 9am! Gates For Drag Race Cars Open At Noon!
  Bracket Racing Time Runs Begin At 1! Check Out Our Web Site darlingto
 ndragway.com For A Full Schedule Of Events!\n\nFor more information vi
 sit https://www.southeastwheelsevents.com/events/wounded-warrior-car-s
 how-darlington-south-carolina
DTSTART;TZID=Pacific/Midway:20140308T090000
DTEND;TZID=Pacific/Midway:20140308T210000
CATEGORIES:car, show, and, drag, race
LOCATION:Darlington Dragway
WEBSITE:http://darlingtondragway.com
URL:http://darlingtondragway.com
CONTACT:843-383-0008
ORGANIZER;CN="ronnie siders":https://www.southeastwheelsevents.com/pro
 file/ronniesiders
ATTACH;FMTTYPE="image/jpeg":
ATTENDEE;ROLE=REQ-PARTICIPANT;PARTSTAT=ACCEPTED;RSVP=TRUE;CN="ronnie s
 iders":https://www.southeastwheelsevents.com/profile/ronniesiders
END:VEVENT
END:VCALENDAR
