BEGIN:VCALENDAR
PRODID:NingEventWidget-v1
VERSION:2.0
METHOD:PUBLISH
BEGIN:VTIMEZONE
TZID:Pacific/Midway
X-LIC-LOCATION:Pacific/Midway
BEGIN:STANDARD
TZOFFSETFROM:-1100
TZOFFSETTO:-1100
TZNAME:SST
DTSTART:19700101T000000
END:STANDARD
END:VTIMEZONE
BEGIN:VEVENT
UID:5072275:Event:822108
DTSTAMP:20260423T145359Z
SUMMARY:Wounded Warrior Car Show in Birmingham, AL
DESCRIPTION:\n\nFor more information visit https://www.southeastwheels
 events.com/events/wounded-warrior-car-show-in-birmingham-al
DTSTART;TZID=Pacific/Midway:20141011T090000
DTEND;TZID=Pacific/Midway:20141011T140000
CATEGORIES:all, car, and, truck, show
LOCATION:The Dixie Fish Restaurant
WEBSITE:
URL:
CONTACT:205-535-0162
ORGANIZER;CN="R D":https://www.southeastwheelsevents.com/profile/RD
ATTACH;FMTTYPE="image/jpeg":http://storage.ning.com/topology/rest/1.0/
 file/get/967667950?profile=original
ATTENDEE;ROLE=REQ-PARTICIPANT;PARTSTAT=ACCEPTED;RSVP=TRUE;CN="R D":htt
 ps://www.southeastwheelsevents.com/profile/RD
END:VEVENT
END:VCALENDAR
