BEGIN:VCALENDAR
PRODID:NingEventWidget-v1
VERSION:2.0
METHOD:PUBLISH
BEGIN:VTIMEZONE
TZID:Pacific/Midway
X-LIC-LOCATION:Pacific/Midway
BEGIN:STANDARD
TZOFFSETFROM:-1100
TZOFFSETTO:-1100
TZNAME:SST
DTSTART:19700101T000000
END:STANDARD
END:VTIMEZONE
BEGIN:VEVENT
UID:5072275:Event:600477
DTSTAMP:20260425T023922Z
SUMMARY:WOUNDED WARRIOR PROJECT FUND RAISER - World Wide Raffle
DESCRIPTION: WOUNDED WARRIOR PROJECT  RAFFLE UPDATE\nOnly 5 Weeks lef
 t to purchase your raffle tickets to win the 1928 Pickup. We have sold
  in total 325 tickets, so here is the math. Cost of the truck was $400
 0. So 325 tickets at $25.00 each is $8125.00. So we have only raised $
 4125.00 for the Wounded Warriors. We are far behind the total we had l
 ast year this time. So folks please pass the word around. You could wi
 n a RUNNING Model A Pickup for $25.00 and in the process help the brav
 e men and women who are protecting us. We will have a video of the tru
 ck running on next weeks special and on our Youtube channel. It's just
  $25.00 to give, where those in service offer there lives!\nWIN THIS C
 AR!\n\n\nBUY YOUR RAFFLE TICKETS HERE TODAY- ALL PROCEEDS GO TO THE WO
 UNDED WARRIOR PROJECT.\n\nFor more information visit https://www.south
 eastwheelsevents.com/events/wounded-warrior-project-fund-raiser-maysvi
 lle-ga
DTSTART;TZID=Pacific/Midway:20121122T000000
DTEND;TZID=Pacific/Midway:20121231T235900
CATEGORIES:fundraiser-raffle
LOCATION:World Wide Raffle
WEBSITE:http://www.mikes-afordable.com/raffle2012.html
URL:http://www.mikes-afordable.com/raffle2012.html
CONTACT:kelly@mikes-afordable.com - (888) 879-6453
ORGANIZER:Mike's \"A\" Fordable
ATTACH;FMTTYPE="image/jpeg":http://storage.ning.com/topology/rest/1.0/
 file/get/967631949?profile=original
ATTENDEE;ROLE=REQ-PARTICIPANT;PARTSTAT=ACCEPTED;RSVP=TRUE;CN="Michael 
 Thies":https://www.southeastwheelsevents.com/profile/MichaelThies
END:VEVENT
END:VCALENDAR
