BEGIN:VCALENDAR
PRODID:NingEventWidget-v1
VERSION:2.0
METHOD:PUBLISH
BEGIN:VTIMEZONE
TZID:Pacific/Midway
X-LIC-LOCATION:Pacific/Midway
BEGIN:STANDARD
TZOFFSETFROM:-1100
TZOFFSETTO:-1100
TZNAME:SST
DTSTART:19700101T000000
END:STANDARD
END:VTIMEZONE
BEGIN:VEVENT
UID:5072275:Event:972206
DTSTAMP:20260424T022737Z
SUMMARY:Yamaha Free Demo Event -Buford, GA
DESCRIPTION:Yamaha%20Demo.jpg\n\nFor more information visit https://ww
 w.southeastwheelsevents.com/events/yamaha-free-demo-event
DTSTART;TZID=Pacific/Midway:20160422T000000
DTEND;TZID=Pacific/Midway:20160424T235900
CATEGORIES:free, demo, rides
LOCATION:Mountain Motorsports Mall of Georgia
WEBSITE:http://www.mmsmallofga.com
URL:http://www.mmsmallofga.com
CONTACT:7708220089
ORGANIZER;CN=Nick:https://www.southeastwheelsevents.com/profile/Nick
ATTACH;FMTTYPE="image/jpeg":http://storage.ning.com/topology/rest/1.0/
 file/get/967704519?profile=original
ATTENDEE;ROLE=REQ-PARTICIPANT;PARTSTAT=ACCEPTED;RSVP=TRUE;CN=Nick:http
 s://www.southeastwheelsevents.com/profile/Nick
END:VEVENT
END:VCALENDAR
