BEGIN:VCALENDAR
PRODID:NingEventWidget-v1
VERSION:2.0
METHOD:PUBLISH
BEGIN:VTIMEZONE
TZID:Pacific/Midway
X-LIC-LOCATION:Pacific/Midway
BEGIN:STANDARD
TZOFFSETFROM:-1100
TZOFFSETTO:-1100
TZNAME:SST
DTSTART:19700101T000000
END:STANDARD
END:VTIMEZONE
BEGIN:VEVENT
UID:5072275:Event:643990
DTSTAMP:20260423T165347Z
SUMMARY:YARISITY JR CRUISE IN
DESCRIPTION:VARISITY JR CRUISE IN EVERY TUESDAY 6 PM TILL 9 PM\nHWY 40
 0 DAWSONVILLE GA 30534 TERRY TALLANT 770-561-4896  \n \n\nFor more 
 information visit https://www.southeastwheelsevents.com/events/yarisit
 y-jr-cruise-in
DTSTART;TZID=Pacific/Midway:20130507T180000
DTEND;TZID=Pacific/Midway:20130507T210000
CATEGORIES:gruise, in
LOCATION:VARISITY J R DAWSONVILLE GA
WEBSITE:
URL:
CONTACT:770-561-4896
ORGANIZER;CN="Terry Tallant":https://www.southeastwheelsevents.com/pro
 file/TerryTallant
ATTACH;FMTTYPE="image/jpeg":
ATTENDEE;ROLE=REQ-PARTICIPANT;PARTSTAT=ACCEPTED;RSVP=TRUE;CN="Terry Ta
 llant":https://www.southeastwheelsevents.com/profile/TerryTallant
END:VEVENT
END:VCALENDAR
