BEGIN:VCALENDAR
PRODID:NingEventWidget-v1
VERSION:2.0
METHOD:PUBLISH
BEGIN:VTIMEZONE
TZID:Pacific/Midway
X-LIC-LOCATION:Pacific/Midway
BEGIN:STANDARD
TZOFFSETFROM:-1100
TZOFFSETTO:-1100
TZNAME:SST
DTSTART:19700101T000000
END:STANDARD
END:VTIMEZONE
BEGIN:VEVENT
UID:5072275:Event:491796
DTSTAMP:20260423T230339Z
SUMMARY:Year One Bash -Braselton, GA
DESCRIPTION:YEARONE’s Braselton Bash is a family-oriented event held
  at our Braselton, Georgia facility on the third Saturday of the month
  starting in the Spring. Many Braselton Bash events are tied into spe
 cific charities or community happenings as detailed in each show listi
 ng.   As always, we emphasize family fun at the Braselton Bash, with
  activities and cool stuff for everyone!\n\nHot Rodders Children’s
  CharityBraselton Bash\nTime 3pm – 8pm\nCar Show entry $5Spectator
 s Free\nSpectators FreeParticipant Vote Car ShowPrize DrawingsBurn Out
  ExhibitionKids AreaFood Vendor\nYEARONEBraselton TechCenter1001 Cherr
 y Dr.Braselton, GA. 305171-800-950-9503\nWhere we are:\n\n2012 Braselt
 on Bash ScheduleSaturday     April 21     3pm-8pmSaturday     Ma
 y 19     5pm-9pmSaturday     June 16     5pm-9pmSaturday     S
 eptember 15     12pm-8pmSaturday     October 20     4pm-8pmSatur
 day     November 17     2pm-6pm\n2012 Braselton Cruising ActivityS
 aturday     July 21     TBDSaturday     August 18     TBD\nWan
 t to apply to be a vendor at future Braselton Bashes?\nE-mail event@y
 earone.com for a vendor form.\n\nFor more information visit https://w
 ww.southeastwheelsevents.com/events/year-one-bash-braselton-ga
DTSTART;TZID=Pacific/Midway:20120519T150000
DTEND;TZID=Pacific/Midway:20120519T200000
CATEGORIES:cruise-in
LOCATION:Year One Braselton
WEBSITE:http://www.yearone.com
URL:http://www.yearone.com
CONTACT:event@yearone.com
ORGANIZER:Year One
ATTACH;FMTTYPE="image/jpeg":http://storage.ning.com/topology/rest/1.0/
 file/get/967609110?profile=original
ATTENDEE;ROLE=REQ-PARTICIPANT;PARTSTAT=ACCEPTED;RSVP=TRUE;CN="david ad
 erhold":https://www.southeastwheelsevents.com/profile/davidaderhold
ATTENDEE;ROLE=REQ-PARTICIPANT;PARTSTAT=ACCEPTED;RSVP=TRUE;CN="Ron Barb
 ani":https://www.southeastwheelsevents.com/profile/RonBarbani
ATTENDEE;ROLE=REQ-PARTICIPANT;PARTSTAT=ACCEPTED;RSVP=TRUE;CN="Jack Tho
 mas":https://www.southeastwheelsevents.com/profile/JackThomas
ATTENDEE;ROLE=REQ-PARTICIPANT;PARTSTAT=TENTATIVE;RSVP=TRUE;CN="Tommy M
 orris":https://www.southeastwheelsevents.com/profile/TommyMorris
ATTENDEE;ROLE=REQ-PARTICIPANT;PARTSTAT=TENTATIVE;RSVP=TRUE;CN=Jeff:htt
 ps://www.southeastwheelsevents.com/profile/Jeff
ATTENDEE;ROLE=REQ-PARTICIPANT;PARTSTAT=TENTATIVE;RSVP=TRUE;CN="John Ba
 ker":https://www.southeastwheelsevents.com/profile/JohnJBaker
END:VEVENT
END:VCALENDAR
