BEGIN:VCALENDAR
PRODID:NingEventWidget-v1
VERSION:2.0
METHOD:PUBLISH
BEGIN:VTIMEZONE
TZID:Pacific/Midway
X-LIC-LOCATION:Pacific/Midway
BEGIN:STANDARD
TZOFFSETFROM:-1100
TZOFFSETTO:-1100
TZNAME:SST
DTSTART:19700101T000000
END:STANDARD
END:VTIMEZONE
BEGIN:VEVENT
UID:5072275:Event:448535
DTSTAMP:20260423T183946Z
SUMMARY:2012 Year One Bandit Run -Texarkana, AR to Braselton, GA
DESCRIPTION:2012 Bandit Run\n\nThis year stops are as follows:\nTexark
 ana, AR Lafayette, LA Biloxi, MS Birmingham, AL Braselton, GA\nThe Ban
 dit Run 2012 will be starting in Texarkana, AR! There are events plann
 ed for Saturday & Sunday May 12th and 13th. We will leave from our hot
 el on Monday morning and ending the week in Braselton, Georgia at the 
 YearOne facility on Friday May 18th in time to attend the Braselton Ba
 sh on Saturday afternoon. We hope to see everyone here!\nFull route de
 tails are posted during the registration process, which will be availa
 ble very soon. Please register with the Motortopia website and join 
 the Bandit Run group to receive email broadcast with updated info on r
 egistration! Hotel information will be available on their front page 
 of this website.\nThe official route map for this years 2012 Bandit Ru
 n. \n \n\n\n\nFor more information visit https://www.southeastwheelse
 vents.com/events/year-ones-toys-for-tots
DTSTART;TZID=Pacific/Midway:20120512T000000
DTEND;TZID=Pacific/Midway:20120519T235900
CATEGORIES:run, ride, tour
LOCATION:Year One
WEBSITE:http://yearone.com
URL:http://yearone.com
CONTACT:402.465.5756 or banditrun@restoreamusclecar.com
ORGANIZER:Year One
ATTACH;FMTTYPE="image/jpeg":http://storage.ning.com/topology/rest/1.0/
 file/get/967603825?profile=original
ATTENDEE;ROLE=REQ-PARTICIPANT;PARTSTAT=TENTATIVE;RSVP=TRUE;CN="JP Brad
 y":https://www.southeastwheelsevents.com/profile/jpbrady
END:VEVENT
END:VCALENDAR
