BEGIN:VCALENDAR
PRODID:NingEventWidget-v1
VERSION:2.0
METHOD:PUBLISH
BEGIN:VTIMEZONE
TZID:Pacific/Midway
X-LIC-LOCATION:Pacific/Midway
BEGIN:STANDARD
TZOFFSETFROM:-1100
TZOFFSETTO:-1100
TZNAME:SST
DTSTART:19700101T000000
END:STANDARD
END:VTIMEZONE
BEGIN:VEVENT
UID:5072275:Event:1061297
DTSTAMP:20260423T090012Z
SUMMARY:Z Nationals -Lawrenceville, GA
DESCRIPTION:\r\nAbout Z Nationals\r\n\r\nZ Nationals is an event focus
 ed on the Nissan Z family. Z Nationals gives you the opportunity to sh
 owcase your vehicle and participate in a variety of activities for own
 ers and enthusiasts alike. Everyone is welcome; however only Z, Infini
 ti G, and GTR owners may participate in most of the events and be elig
 ible for awards, prizes, and giveaways. Drive your car on a world clas
 s racetrack, participate in the car show, and register to win the best
  product on the market. www.Znationals.com\r\n\n\nFor more informatio
 n visit https://www.southeastwheelsevents.com/events/z-nationals-lawre
 nceville-ga
DTSTART;TZID=Pacific/Midway:20170812T170000
DTEND;TZID=Pacific/Midway:20170812T210000
CATEGORIES:car, show, festival
LOCATION:Cool Ray Field
WEBSITE:http://www.znationals.com/
URL:http://www.znationals.com/
CONTACT:cleancultureevents@gmail.com
ORGANIZER:Clean Culture Events
ATTACH;FMTTYPE="image/jpeg":http://storage.ning.com/topology/rest/1.0/
 file/get/967748870?profile=original
ATTENDEE;ROLE=REQ-PARTICIPANT;PARTSTAT=ACCEPTED;RSVP=TRUE;CN="Chuck Aa
 ron":https://www.southeastwheelsevents.com/profile/ChuckAaron886
END:VEVENT
END:VCALENDAR
