BEGIN:VCALENDAR
PRODID:NingEventWidget-v1
VERSION:2.0
METHOD:PUBLISH
BEGIN:VTIMEZONE
TZID:Pacific/Midway
X-LIC-LOCATION:Pacific/Midway
BEGIN:STANDARD
TZOFFSETFROM:-1100
TZOFFSETTO:-1100
TZNAME:SST
DTSTART:19700101T000000
END:STANDARD
END:VTIMEZONE
BEGIN:VEVENT
UID:5072275:Event:901482
DTSTAMP:20260424T033257Z
SUMMARY:Zoom At The Zoo Father's Day Car Show -Jacksonville, FL
DESCRIPTION:Zoom At The Zoo Father's Day Car Show & BBQ at the Jackson
 ville Zoo & Gardens\n\nZOOM AT THE ZOO\nFather's Day Car Show, BBQ & A
 dmission Special\nSaturday June 20\nSponsored by Chase\nDads get in fr
 ee all weekend with coupon!\nCelebrate the dads we love with a car sho
 w, BBQ and music on the Great Lawn.\nKids can create a Father's Day ca
 rd, have their face painted and get fun giveaways compliments of Chase
  in the Trout River Plaza Saturday from 10 am - 4 pm. \nDownload coup
 on HERE or be GREEN and show on your phone or tablet!\n\nFor more 
 information visit https://www.southeastwheelsevents.com/events/zoom-at
 -the-zoo-father-s-day-car-show-jacksonville-fl
DTSTART;TZID=Pacific/Midway:20150620T090000
DTEND;TZID=Pacific/Midway:20150620T160000
CATEGORIES:car-show, bbq
LOCATION:Jacksonville Zoo & Gardens
WEBSITE:http://370 Zoo Parkway, Jacksonville, FL 32218
URL:http://370 Zoo Parkway, Jacksonville, FL 32218
CONTACT:Yaira Osborne 904-757-4463 x390
ORGANIZER:Jacksonville Zoo & Gardens
ATTACH;FMTTYPE="image/jpeg":http://storage.ning.com/topology/rest/1.0/
 file/get/967692939?profile=original
ATTENDEE;ROLE=REQ-PARTICIPANT;PARTSTAT=ACCEPTED;RSVP=TRUE;CN="Chuck Aa
 ron":https://www.southeastwheelsevents.com/profile/ChuckAaron
END:VEVENT
END:VCALENDAR
